BEGIN:VCALENDAR
VERSION:2.0
PRODID:-//Soul Expression Arts - ECPv6.15.20//NONSGML v1.0//EN
CALSCALE:GREGORIAN
METHOD:PUBLISH
X-WR-CALNAME:Soul Expression Arts
X-ORIGINAL-URL:https://www.soulexpressionarts.com
X-WR-CALDESC:Events for Soul Expression Arts
REFRESH-INTERVAL;VALUE=DURATION:PT1H
X-Robots-Tag:noindex
X-PUBLISHED-TTL:PT1H
BEGIN:VTIMEZONE
TZID:America/Los_Angeles
BEGIN:DAYLIGHT
TZOFFSETFROM:-0800
TZOFFSETTO:-0700
TZNAME:PDT
DTSTART:20250309T100000
END:DAYLIGHT
BEGIN:STANDARD
TZOFFSETFROM:-0700
TZOFFSETTO:-0800
TZNAME:PST
DTSTART:20251102T090000
END:STANDARD
BEGIN:DAYLIGHT
TZOFFSETFROM:-0800
TZOFFSETTO:-0700
TZNAME:PDT
DTSTART:20260308T100000
END:DAYLIGHT
BEGIN:STANDARD
TZOFFSETFROM:-0700
TZOFFSETTO:-0800
TZNAME:PST
DTSTART:20261101T090000
END:STANDARD
BEGIN:DAYLIGHT
TZOFFSETFROM:-0800
TZOFFSETTO:-0700
TZNAME:PDT
DTSTART:20270314T100000
END:DAYLIGHT
BEGIN:STANDARD
TZOFFSETFROM:-0700
TZOFFSETTO:-0800
TZNAME:PST
DTSTART:20271107T090000
END:STANDARD
END:VTIMEZONE
BEGIN:VEVENT
DTSTART;TZID=America/Los_Angeles:20260211T180000
DTEND;TZID=America/Los_Angeles:20260211T200000
DTSTAMP:20260421T020827
CREATED:20260129T035902Z
LAST-MODIFIED:20260129T035902Z
UID:1663-1770832800-1770840000@www.soulexpressionarts.com
SUMMARY:Monthly Drum Circle at Crystallized Coven
DESCRIPTION:Join us every second Wednesday of the month from 6–8 PM for an evening of rhythm\, connection\, and community at Crystallized Coven. \nThis monthly drum circle is a time to slow down\, release the stress of daily life\, and reconnect—with yourself\, with each other\, and with the natural rhythms of the seasons. Together\, we gather in circle to drum\, explore sound\, and allow the heartbeat of the drum to guide us back into balance. \nAll experience levels are welcome. You’re invited to bring your own drum or any sound maker that calls to you—rattles\, flutes\, bells\, pan drums\, or your voice. If you don’t have an instrument\, no worries at all; we have plenty to share. \nCome as you are\, with an open heart and a willingness to listen\, play\, and connect. This is a relaxed\, welcoming space to be in rhythm together and to remember the medicine of gathering in circle.
URL:https://www.soulexpressionarts.com/event/monthly-drum-circle-at-crystallized-coven/
LOCATION:Crystallized Coven\, 4035 Grass Valley Hwy\, Auburn\, CA\, 95602\, United States
ATTACH;FMTTYPE=image/jpeg:https://www.soulexpressionarts.com/wp-content/uploads/2026/01/20260114_175030.jpg
ORGANIZER;CN="Soul Expression Arts":MAILTO:shannon@soulexpressionarts.com
END:VEVENT
END:VCALENDAR