BEGIN:VCALENDAR
VERSION:2.0
PRODID:-//Soul Expression Arts - ECPv6.15.20//NONSGML v1.0//EN
CALSCALE:GREGORIAN
METHOD:PUBLISH
X-WR-CALNAME:Soul Expression Arts
X-ORIGINAL-URL:https://www.soulexpressionarts.com
X-WR-CALDESC:Events for Soul Expression Arts
REFRESH-INTERVAL;VALUE=DURATION:PT1H
X-Robots-Tag:noindex
X-PUBLISHED-TTL:PT1H
BEGIN:VTIMEZONE
TZID:America/Los_Angeles
BEGIN:DAYLIGHT
TZOFFSETFROM:-0800
TZOFFSETTO:-0700
TZNAME:PDT
DTSTART:20230312T100000
END:DAYLIGHT
BEGIN:STANDARD
TZOFFSETFROM:-0700
TZOFFSETTO:-0800
TZNAME:PST
DTSTART:20231105T090000
END:STANDARD
BEGIN:DAYLIGHT
TZOFFSETFROM:-0800
TZOFFSETTO:-0700
TZNAME:PDT
DTSTART:20240310T100000
END:DAYLIGHT
BEGIN:STANDARD
TZOFFSETFROM:-0700
TZOFFSETTO:-0800
TZNAME:PST
DTSTART:20241103T090000
END:STANDARD
BEGIN:DAYLIGHT
TZOFFSETFROM:-0800
TZOFFSETTO:-0700
TZNAME:PDT
DTSTART:20250309T100000
END:DAYLIGHT
BEGIN:STANDARD
TZOFFSETFROM:-0700
TZOFFSETTO:-0800
TZNAME:PST
DTSTART:20251102T090000
END:STANDARD
END:VTIMEZONE
BEGIN:VEVENT
DTSTART;TZID=America/Los_Angeles:20241230T100000
DTEND;TZID=America/Los_Angeles:20241230T160000
DTSTAMP:20260421T101803
CREATED:20241230T154221Z
LAST-MODIFIED:20241230T154308Z
UID:88-1735552800-1735574400@www.soulexpressionarts.com
SUMMARY:Medicine Drum Making Workshop @ Serenity Spa
DESCRIPTION:Join us for a drum making workshop on this New Moon at the Serenity Spa in Folsom. The Black moon reminds us to go inside and release all those things that do not serve us anymore in order to bring in all of the good. This is perfect time just before the new year to set intentions with a new drum. As we come together on this day we will be crafting our own 20″ medicine drums. \n  \nWe will be infusing our own persnal medicine and spirit making it a powerful tool for connection and transformation. \n 
URL:https://www.soulexpressionarts.com/event/medicine-drum-making-workshop-serenity-spa/
LOCATION:CA
END:VEVENT
END:VCALENDAR