BEGIN:VCALENDAR
VERSION:2.0
PRODID:-//Soul Expression Arts - ECPv6.15.20//NONSGML v1.0//EN
CALSCALE:GREGORIAN
METHOD:PUBLISH
X-WR-CALNAME:Soul Expression Arts
X-ORIGINAL-URL:https://www.soulexpressionarts.com
X-WR-CALDESC:Events for Soul Expression Arts
REFRESH-INTERVAL;VALUE=DURATION:PT1H
X-Robots-Tag:noindex
X-PUBLISHED-TTL:PT1H
BEGIN:VTIMEZONE
TZID:America/Los_Angeles
BEGIN:DAYLIGHT
TZOFFSETFROM:-0800
TZOFFSETTO:-0700
TZNAME:PDT
DTSTART:20240310T100000
END:DAYLIGHT
BEGIN:STANDARD
TZOFFSETFROM:-0700
TZOFFSETTO:-0800
TZNAME:PST
DTSTART:20241103T090000
END:STANDARD
BEGIN:DAYLIGHT
TZOFFSETFROM:-0800
TZOFFSETTO:-0700
TZNAME:PDT
DTSTART:20250309T100000
END:DAYLIGHT
BEGIN:STANDARD
TZOFFSETFROM:-0700
TZOFFSETTO:-0800
TZNAME:PST
DTSTART:20251102T090000
END:STANDARD
BEGIN:DAYLIGHT
TZOFFSETFROM:-0800
TZOFFSETTO:-0700
TZNAME:PDT
DTSTART:20260308T100000
END:DAYLIGHT
BEGIN:STANDARD
TZOFFSETFROM:-0700
TZOFFSETTO:-0800
TZNAME:PST
DTSTART:20261101T090000
END:STANDARD
END:VTIMEZONE
BEGIN:VEVENT
DTSTART;TZID=America/Los_Angeles:20250805T080000
DTEND;TZID=America/Los_Angeles:20250805T170000
DTSTAMP:20260421T132012
CREATED:20250805T231124Z
LAST-MODIFIED:20250805T231124Z
UID:1261-1754380800-1754413200@www.soulexpressionarts.com
SUMMARY:Medicine Drum Making
DESCRIPTION:Medicine Drum Making Workshop🪶 Sunday\, August 24 | 10 AM – 1 PM📍 Crystallized Coven\, Auburn\, CA \nStep into sacred creation and craft your own medicine drum\, a powerful spiritual tool used by cultures around the world for ceremony\, healing\, connection\, and rhythm. In this hands-on workshop\, you’ll be guided through the process of building your drum with intention\, prayer\, and presence. \nAs you create\, you’ll infuse your drum with your own energy and purpose\, making it a true ally for meditation\, journey work\, personal healing\, and sacred play. All materials will be provided\, and no previous experience is needed. \nThis is a deeply meaningful experience of reconnecting with the heartbeat of the Earth and your own inner rhythm. \n✨ Space is limited—RSVP required.📞 Please call Crystallized Coven to reserve your spot and for more details. \n(530) 401-7663
URL:https://www.soulexpressionarts.com/event/medicine-drum-making-workshop-august-24-at-crystallized-coven/
ATTACH;FMTTYPE=image/jpeg:https://www.soulexpressionarts.com/wp-content/uploads/2025/02/472665518_10221814409589525_1313503557379407651_n.jpg
END:VEVENT
END:VCALENDAR