BEGIN:VCALENDAR
VERSION:2.0
PRODID:-//Soul Expression Arts - ECPv6.15.20//NONSGML v1.0//EN
CALSCALE:GREGORIAN
METHOD:PUBLISH
X-ORIGINAL-URL:https://www.soulexpressionarts.com
X-WR-CALDESC:Events for Soul Expression Arts
REFRESH-INTERVAL;VALUE=DURATION:PT1H
X-Robots-Tag:noindex
X-PUBLISHED-TTL:PT1H
BEGIN:VTIMEZONE
TZID:America/Los_Angeles
BEGIN:DAYLIGHT
TZOFFSETFROM:-0800
TZOFFSETTO:-0700
TZNAME:PDT
DTSTART:20240310T100000
END:DAYLIGHT
BEGIN:STANDARD
TZOFFSETFROM:-0700
TZOFFSETTO:-0800
TZNAME:PST
DTSTART:20241103T090000
END:STANDARD
BEGIN:DAYLIGHT
TZOFFSETFROM:-0800
TZOFFSETTO:-0700
TZNAME:PDT
DTSTART:20250309T100000
END:DAYLIGHT
BEGIN:STANDARD
TZOFFSETFROM:-0700
TZOFFSETTO:-0800
TZNAME:PST
DTSTART:20251102T090000
END:STANDARD
BEGIN:DAYLIGHT
TZOFFSETFROM:-0800
TZOFFSETTO:-0700
TZNAME:PDT
DTSTART:20260308T100000
END:DAYLIGHT
BEGIN:STANDARD
TZOFFSETFROM:-0700
TZOFFSETTO:-0800
TZNAME:PST
DTSTART:20261101T090000
END:STANDARD
END:VTIMEZONE
BEGIN:VEVENT
DTSTART;TZID=America/Los_Angeles:20250720T130000
DTEND;TZID=America/Los_Angeles:20250720T170000
DTSTAMP:20260421T163845
CREATED:20250709T174141Z
LAST-MODIFIED:20250709T184328Z
UID:1220-1753016400-1753030800@www.soulexpressionarts.com
SUMMARY:Sacred Crafting Class - Rattles and Medicine Bags
DESCRIPTION:Immerse yourself in a transformative 4-hour workshop where tradition meets creativity\, and the sacred takes tangible form. Craft your own personal medicine bag or rattle\, or both\, each infused with intention and tailored to support your spiritual journey.  \nCreate Your Personal Medicine Bag ~ Medicine bags have been cherished across cultures as sacred vessels to carry prayers\, intentions\, and personal power. In this workshop\, you’ll craft your own no-sew medicine bag—a beautiful and symbolic container for herbs\, stones\, keepsakes\, and other meaningful items. Design your bag to reflect your individuality\, with options for shapes\, sizes\, and embellishments like beads and fringe. Medicine bags may hold sacred elements such as: Tobacco: Channels prayers to the Creator\, Sage: Cleanses and purifies\, Sweet Grass: Invites spirit guides and ancestors\, Cedar: Releases old karma  \n Create Your Sacred Rattle ~ The rattle is a sacred instrument\, uniting the animal\, plant\, and mineral kingdoms and embodying the harmony of earth\, air\, fire\, and water. Craft a rattle that resonates with your spirit\, using meaningful natural fillings such as stones\, shells\, or seeds. Personalize its appearance with thoughtful decorations—wrap the handle\, add feathers or beads\, or keep it natural and understated. Rattles have been used for storytelling\, singing\, dancing\, and energy work. They reconnect us with the natural world and serve as tools for clearing negativity\, inviting positivity\, and facilitating healing and transformation.  \nWhat Awaits You Step-by-step guidance to craft your unique medicine bag or rattle All materials and supplies provided\, with the option to bring personal items for added significance A warm and sacred space to connect with a community of like-minded individuals Celebrate the art of sacred creation and leave with tools that carry your prayers\, intentions\, and spiritual energy. This is your opportunity to forge a meaningful connection with tradition\, creativity\, and yourself. Medicine Bag $150\, Rattle $100
URL:https://www.soulexpressionarts.com/event/sacred-crafting-class-rattles-and-medicine-bags/
LOCATION:Serenity Spa Folsom\, 350 Palladio Pkwy #1975\, Folsom\, CA\, 95630\, United States
ATTACH;FMTTYPE=image/jpeg:https://www.soulexpressionarts.com/wp-content/uploads/2025/07/rattle-and-bags-2.jpg
ORGANIZER;CN="Sacred Pathways Healing Arts":MAILTO:Hulleysr@gmail.com
END:VEVENT
END:VCALENDAR